BEGIN:VCALENDAR
METHOD:PUBLISH
PRODID:Data::ICal 0.13
VERSION:2.0
BEGIN:VEVENT
DESCRIPTION:[caption id=&quot;attachment_7672&quot; align=&quot;alignnone&quot; width=&quot;1024&quot;] Source: n/a / n/a[/caption]
DTSTAMP:20260423T120216Z
DTSTART;TZID=America/New_York:20160715T190000
DTEND;TZID=America/New_York:20160715T220000
LOCATION:
SUMMARY:Joyful Noise Choir Fest
UID:7671-1468609200-1468620000
END:VEVENT
END:VCALENDAR
