BEGIN:VCALENDAR
METHOD:PUBLISH
PRODID:Data::ICal 0.13
VERSION:2.0
BEGIN:VEVENT
DESCRIPTION:[caption id=&quot;attachment_2794&quot; align=&quot;alignnone&quot; width=&quot;1024&quot;] Source: First Church of God / First Church of God[/caption]
DTSTAMP:20260423T085421Z
DTSTART;TZID=America/New_York:20160220T170000
DTEND;TZID=America/New_York:20160220T200000
LOCATION:3480 Refugee Road\, Columbus\, OH\, 43232
SUMMARY:The Rebirth of Comedy Tour: David Mann &amp; Akintunde LIVE &#8211; Saturday, Feb. 20th
UID:2788-1455987600-1455998400
END:VEVENT
END:VCALENDAR
